BEGIN:VCALENDAR
VERSION:2.0
PRODID:-//Forest of Dean Morris - ECPv6.15.20//NONSGML v1.0//EN
CALSCALE:GREGORIAN
METHOD:PUBLISH
X-WR-CALNAME:Forest of Dean Morris
X-ORIGINAL-URL:https://forestmorris.org.uk
X-WR-CALDESC:Events for Forest of Dean Morris
REFRESH-INTERVAL;VALUE=DURATION:PT1H
X-Robots-Tag:noindex
X-PUBLISHED-TTL:PT1H
BEGIN:VTIMEZONE
TZID:Europe/London
BEGIN:DAYLIGHT
TZOFFSETFROM:+0000
TZOFFSETTO:+0100
TZNAME:BST
DTSTART:20230326T010000
END:DAYLIGHT
BEGIN:STANDARD
TZOFFSETFROM:+0100
TZOFFSETTO:+0000
TZNAME:GMT
DTSTART:20231029T010000
END:STANDARD
BEGIN:DAYLIGHT
TZOFFSETFROM:+0000
TZOFFSETTO:+0100
TZNAME:BST
DTSTART:20240331T010000
END:DAYLIGHT
BEGIN:STANDARD
TZOFFSETFROM:+0100
TZOFFSETTO:+0000
TZNAME:GMT
DTSTART:20241027T010000
END:STANDARD
BEGIN:DAYLIGHT
TZOFFSETFROM:+0000
TZOFFSETTO:+0100
TZNAME:BST
DTSTART:20250330T010000
END:DAYLIGHT
BEGIN:STANDARD
TZOFFSETFROM:+0100
TZOFFSETTO:+0000
TZNAME:GMT
DTSTART:20251026T010000
END:STANDARD
BEGIN:DAYLIGHT
TZOFFSETFROM:+0000
TZOFFSETTO:+0100
TZNAME:BST
DTSTART:20260329T010000
END:DAYLIGHT
BEGIN:STANDARD
TZOFFSETFROM:+0100
TZOFFSETTO:+0000
TZNAME:GMT
DTSTART:20261025T010000
END:STANDARD
END:VTIMEZONE
BEGIN:VEVENT
DTSTART;TZID=Europe/London:20250607T000000
DTEND;TZID=Europe/London:20250609T235959
DTSTAMP:20260419T221247
CREATED:20240422T200932Z
LAST-MODIFIED:20250429T170333Z
UID:224-1749254400-1749513599@forestmorris.org.uk
SUMMARY:Forest of Dean Annual Family Event
DESCRIPTION:Join us as we tour about the Forest of Dean with other invited Morris dancing sides
URL:https://forestmorris.org.uk/event/forest-of-dean-annual-family-event/
LOCATION:Around the Forest of Dean
ATTACH;FMTTYPE=image/png:https://forestmorris.org.uk/wp-content/uploads/2024/03/Our-next-event.png
END:VEVENT
BEGIN:VEVENT
DTSTART;TZID=Europe/London:20250604T200000
DTEND;TZID=Europe/London:20250604T213000
DTSTAMP:20260419T221247
CREATED:20240422T192806Z
LAST-MODIFIED:20250429T150234Z
UID:171-1749067200-1749072600@forestmorris.org.uk
SUMMARY:Weekly Dance Out
DESCRIPTION:Join us for our weekly dance out at The White Horse\, Soudley
URL:https://forestmorris.org.uk/event/weekly-dance-out-6/
LOCATION:The White Horse\, Soudley\, GL14 2UA
ATTACH;FMTTYPE=image/png:https://forestmorris.org.uk/wp-content/uploads/2024/03/Our-next-event.png
END:VEVENT
BEGIN:VEVENT
DTSTART;TZID=Europe/London:20250528T200000
DTEND;TZID=Europe/London:20250528T213000
DTSTAMP:20260419T221247
CREATED:20240422T192614Z
LAST-MODIFIED:20250515T102819Z
UID:168-1748462400-1748467800@forestmorris.org.uk
SUMMARY:Weekly Dance Out
DESCRIPTION:Join us for our weekly dance out at The Hearts of Oak at Drybrook
URL:https://forestmorris.org.uk/event/weekly-dance-out-5/
LOCATION:The Hearts of Oak\, Drybrook\, GL17 9EE
ATTACH;FMTTYPE=image/png:https://forestmorris.org.uk/wp-content/uploads/2024/03/Our-next-event.png
END:VEVENT
BEGIN:VEVENT
DTSTART;TZID=Europe/London:20250524T000000
DTEND;TZID=Europe/London:20250524T235959
DTSTAMP:20260419T221247
CREATED:20240422T200738Z
LAST-MODIFIED:20250429T170301Z
UID:221-1748044800-1748131199@forestmorris.org.uk
SUMMARY:Chippenham Folk Festival
DESCRIPTION:Come and see us dance at Chippenham Folk Festival
URL:https://forestmorris.org.uk/event/chippenham-folk-festival/
LOCATION:Chippenham Folk Festival\, Chippenham
ATTACH;FMTTYPE=image/png:https://forestmorris.org.uk/wp-content/uploads/2024/03/Our-next-event.png
END:VEVENT
BEGIN:VEVENT
DTSTART;TZID=Europe/London:20250521T080000
DTEND;TZID=Europe/London:20250521T170000
DTSTAMP:20260419T221247
CREATED:20250429T165409Z
LAST-MODIFIED:20250429T165409Z
UID:246-1747814400-1747846800@forestmorris.org.uk
SUMMARY:Weekly Dance Out
DESCRIPTION:Join us for our weekly dance out at The Forge Hammer\, Lydbrook
URL:https://forestmorris.org.uk/event/weekly-dance-out-4/
LOCATION:The Forge Hammer\, Forge Hammer Inn\, Forge Row\,\, Lydbrook\, Gloucestershire\, GL17 9NP\, United Kingdom
ATTACH;FMTTYPE=image/png:https://forestmorris.org.uk/wp-content/uploads/2024/03/Our-next-event.png
END:VEVENT
BEGIN:VEVENT
DTSTART;TZID=Europe/London:20250517T000000
DTEND;TZID=Europe/London:20250517T235959
DTSTAMP:20260419T221247
CREATED:20250429T170526Z
LAST-MODIFIED:20250429T170526Z
UID:255-1747440000-1747526399@forestmorris.org.uk
SUMMARY:Cinderford Arts Festival
DESCRIPTION:Join us for a dance out at Cinderford Arts Festival
URL:https://forestmorris.org.uk/event/cinderford-arts-festival/
LOCATION:Cinderford\, Cinderford\, United Kingdom
ATTACH;FMTTYPE=image/png:https://forestmorris.org.uk/wp-content/uploads/2024/03/Our-next-event.png
END:VEVENT
BEGIN:VEVENT
DTSTART;TZID=Europe/London:20250514T080000
DTEND;TZID=Europe/London:20250514T170000
DTSTAMP:20260419T221247
CREATED:20250429T164942Z
LAST-MODIFIED:20250429T165214Z
UID:243-1747209600-1747242000@forestmorris.org.uk
SUMMARY:Weekly Dance Out
DESCRIPTION:Join us for our weekly dance out at The New Harp\, Hoarwithy
URL:https://forestmorris.org.uk/event/weekly-dance-out-2/
LOCATION:The New Harp Inn\, Hoarwithy\, Hereford\, HR2 6QH\, United Kingdom
ATTACH;FMTTYPE=image/png:https://forestmorris.org.uk/wp-content/uploads/2024/03/Our-next-event.png
END:VEVENT
BEGIN:VEVENT
DTSTART;TZID=Europe/London:20250507T200000
DTEND;TZID=Europe/London:20250507T213000
DTSTAMP:20260419T221247
CREATED:20240422T191933Z
LAST-MODIFIED:20250429T150553Z
UID:162-1746648000-1746653400@forestmorris.org.uk
SUMMARY:Weekly Dance Out
DESCRIPTION:Join us for our weekly dance out at The Red Lion\, Huntley
URL:https://forestmorris.org.uk/event/weekly-dance-out-3/
LOCATION:The Red Lion\, Huntley\, GL19 3DU
ATTACH;FMTTYPE=image/png:https://forestmorris.org.uk/wp-content/uploads/2024/03/Our-next-event.png
END:VEVENT
BEGIN:VEVENT
DTSTART;TZID=Europe/London:20250501T050000
DTEND;TZID=Europe/London:20250501T060000
DTSTAMP:20260419T221247
CREATED:20240422T200600Z
LAST-MODIFIED:20250429T145942Z
UID:218-1746075600-1746079200@forestmorris.org.uk
SUMMARY:May Day Dawn Dance
DESCRIPTION:An early start to dance in the dawn at the top of May Hill. Breakfast and music afterwards in the village hall.
URL:https://forestmorris.org.uk/event/may-day-dawn-dance/
LOCATION:Top of May Hill
ATTACH;FMTTYPE=image/png:https://forestmorris.org.uk/wp-content/uploads/2024/03/Our-next-event.png
END:VEVENT
BEGIN:VEVENT
DTSTART;TZID=Europe/London:20240713T000000
DTEND;TZID=Europe/London:20240713T235959
DTSTAMP:20260419T221247
CREATED:20240422T201137Z
LAST-MODIFIED:20240422T201137Z
UID:226-1720828800-1720915199@forestmorris.org.uk
SUMMARY:Soudley Village Fete
DESCRIPTION:We are dancing at Soudley Village Fete
URL:https://forestmorris.org.uk/event/soudley-village-fete/
LOCATION:Soudley Village Hall\, Soudley
ATTACH;FMTTYPE=image/png:https://forestmorris.org.uk/wp-content/uploads/2024/03/Our-next-event.png
END:VEVENT
BEGIN:VEVENT
DTSTART;TZID=Europe/London:20240401T000000
DTEND;TZID=Europe/London:20240401T235959
DTSTAMP:20260419T221247
CREATED:20240303T210959Z
LAST-MODIFIED:20240304T104349Z
UID:57-1711929600-1712015999@forestmorris.org.uk
SUMMARY:Easter Monday Dance Out
DESCRIPTION:
URL:https://forestmorris.org.uk/event/easter-monday-dance-out/
LOCATION:Around the Forest of Dean
ATTACH;FMTTYPE=image/png:https://forestmorris.org.uk/wp-content/uploads/2024/03/Our-next-event.png
END:VEVENT
END:VCALENDAR